BEGIN:VCALENDAR
VERSION:2.0
PRODID:-//Carton Studio - ECPv6.10.3//NONSGML v1.0//EN
CALSCALE:GREGORIAN
METHOD:PUBLISH
X-WR-CALNAME:Carton Studio
X-ORIGINAL-URL:https://bycartonstudio.com
X-WR-CALDESC:Events for Carton Studio
REFRESH-INTERVAL;VALUE=DURATION:PT1H
X-Robots-Tag:noindex
X-PUBLISHED-TTL:PT1H
BEGIN:VTIMEZONE
TZID:UTC
BEGIN:STANDARD
TZOFFSETFROM:+0000
TZOFFSETTO:+0000
TZNAME:UTC
DTSTART:20280101T000000
END:STANDARD
END:VTIMEZONE
BEGIN:VEVENT
DTSTART;TZID=UTC:20280503T200000
DTEND;TZID=UTC:20280503T210000
DTSTAMP:20260422T001943
CREATED:20250329T150627Z
LAST-MODIFIED:20250329T154125Z
UID:10000687-1840996800-1841000400@bycartonstudio.com
SUMMARY:סשן תנועה עם רז רוזנבלו
DESCRIPTION:  \n 
URL:https://bycartonstudio.com/event/dance-sessions/2028-05-03/
CATEGORIES:pink background
ATTACH;FMTTYPE=image/jpeg:https://bycartonstudio.com/wp-content/uploads/2025/03/486403688_1058006943030607_1179724587045265076_n-1.jpg
END:VEVENT
BEGIN:VEVENT
DTSTART;TZID=UTC:20280510T200000
DTEND;TZID=UTC:20280510T210000
DTSTAMP:20260422T001943
CREATED:20250329T150627Z
LAST-MODIFIED:20250329T154125Z
UID:10000688-1841601600-1841605200@bycartonstudio.com
SUMMARY:סשן תנועה עם רז רוזנבלו
DESCRIPTION:  \n 
URL:https://bycartonstudio.com/event/dance-sessions/2028-05-10/
CATEGORIES:pink background
ATTACH;FMTTYPE=image/jpeg:https://bycartonstudio.com/wp-content/uploads/2025/03/486403688_1058006943030607_1179724587045265076_n-1.jpg
END:VEVENT
BEGIN:VEVENT
DTSTART;TZID=UTC:20280517T200000
DTEND;TZID=UTC:20280517T210000
DTSTAMP:20260422T001943
CREATED:20250329T150627Z
LAST-MODIFIED:20250329T154125Z
UID:10000689-1842206400-1842210000@bycartonstudio.com
SUMMARY:סשן תנועה עם רז רוזנבלו
DESCRIPTION:  \n 
URL:https://bycartonstudio.com/event/dance-sessions/2028-05-17/
CATEGORIES:pink background
ATTACH;FMTTYPE=image/jpeg:https://bycartonstudio.com/wp-content/uploads/2025/03/486403688_1058006943030607_1179724587045265076_n-1.jpg
END:VEVENT
BEGIN:VEVENT
DTSTART;TZID=UTC:20280524T200000
DTEND;TZID=UTC:20280524T210000
DTSTAMP:20260422T001943
CREATED:20250329T150627Z
LAST-MODIFIED:20250329T154125Z
UID:10000690-1842811200-1842814800@bycartonstudio.com
SUMMARY:סשן תנועה עם רז רוזנבלו
DESCRIPTION:  \n 
URL:https://bycartonstudio.com/event/dance-sessions/2028-05-24/
CATEGORIES:pink background
ATTACH;FMTTYPE=image/jpeg:https://bycartonstudio.com/wp-content/uploads/2025/03/486403688_1058006943030607_1179724587045265076_n-1.jpg
END:VEVENT
BEGIN:VEVENT
DTSTART;TZID=UTC:20280531T200000
DTEND;TZID=UTC:20280531T210000
DTSTAMP:20260422T001943
CREATED:20250329T150627Z
LAST-MODIFIED:20250329T154125Z
UID:10000691-1843416000-1843419600@bycartonstudio.com
SUMMARY:סשן תנועה עם רז רוזנבלו
DESCRIPTION:  \n 
URL:https://bycartonstudio.com/event/dance-sessions/2028-05-31/
CATEGORIES:pink background
ATTACH;FMTTYPE=image/jpeg:https://bycartonstudio.com/wp-content/uploads/2025/03/486403688_1058006943030607_1179724587045265076_n-1.jpg
END:VEVENT
END:VCALENDAR