BEGIN:VCALENDAR
VERSION:2.0
PRODID:-//Carton Studio - ECPv6.10.3//NONSGML v1.0//EN
CALSCALE:GREGORIAN
METHOD:PUBLISH
X-WR-CALNAME:Carton Studio
X-ORIGINAL-URL:https://bycartonstudio.com
X-WR-CALDESC:Events for Carton Studio
REFRESH-INTERVAL;VALUE=DURATION:PT1H
X-Robots-Tag:noindex
X-PUBLISHED-TTL:PT1H
BEGIN:VTIMEZONE
TZID:UTC
BEGIN:STANDARD
TZOFFSETFROM:+0000
TZOFFSETTO:+0000
TZNAME:UTC
DTSTART:20290101T000000
END:STANDARD
END:VTIMEZONE
BEGIN:VEVENT
DTSTART;TZID=UTC:20290307T200000
DTEND;TZID=UTC:20290307T210000
DTSTAMP:20260422T153159
CREATED:20250329T150627Z
LAST-MODIFIED:20250329T154125Z
UID:10000731-1867608000-1867611600@bycartonstudio.com
SUMMARY:סשן תנועה עם רז רוזנבלו
DESCRIPTION:  \n 
URL:https://bycartonstudio.com/event/dance-sessions/2029-03-07/
CATEGORIES:pink background
ATTACH;FMTTYPE=image/jpeg:https://bycartonstudio.com/wp-content/uploads/2025/03/486403688_1058006943030607_1179724587045265076_n-1.jpg
END:VEVENT
BEGIN:VEVENT
DTSTART;TZID=UTC:20290314T200000
DTEND;TZID=UTC:20290314T210000
DTSTAMP:20260422T153159
CREATED:20250329T150627Z
LAST-MODIFIED:20250329T154125Z
UID:10000732-1868212800-1868216400@bycartonstudio.com
SUMMARY:סשן תנועה עם רז רוזנבלו
DESCRIPTION:  \n 
URL:https://bycartonstudio.com/event/dance-sessions/2029-03-14/
CATEGORIES:pink background
ATTACH;FMTTYPE=image/jpeg:https://bycartonstudio.com/wp-content/uploads/2025/03/486403688_1058006943030607_1179724587045265076_n-1.jpg
END:VEVENT
BEGIN:VEVENT
DTSTART;TZID=UTC:20290321T200000
DTEND;TZID=UTC:20290321T210000
DTSTAMP:20260422T153159
CREATED:20250329T150627Z
LAST-MODIFIED:20250329T154125Z
UID:10000733-1868817600-1868821200@bycartonstudio.com
SUMMARY:סשן תנועה עם רז רוזנבלו
DESCRIPTION:  \n 
URL:https://bycartonstudio.com/event/dance-sessions/2029-03-21/
CATEGORIES:pink background
ATTACH;FMTTYPE=image/jpeg:https://bycartonstudio.com/wp-content/uploads/2025/03/486403688_1058006943030607_1179724587045265076_n-1.jpg
END:VEVENT
BEGIN:VEVENT
DTSTART;TZID=UTC:20290328T200000
DTEND;TZID=UTC:20290328T210000
DTSTAMP:20260422T153159
CREATED:20250329T150627Z
LAST-MODIFIED:20250329T154125Z
UID:10000734-1869422400-1869426000@bycartonstudio.com
SUMMARY:סשן תנועה עם רז רוזנבלו
DESCRIPTION:  \n 
URL:https://bycartonstudio.com/event/dance-sessions/2029-03-28/
CATEGORIES:pink background
ATTACH;FMTTYPE=image/jpeg:https://bycartonstudio.com/wp-content/uploads/2025/03/486403688_1058006943030607_1179724587045265076_n-1.jpg
END:VEVENT
END:VCALENDAR