BEGIN:VCALENDAR
VERSION:2.0
PRODID:-//Carton Studio - ECPv6.10.3//NONSGML v1.0//EN
CALSCALE:GREGORIAN
METHOD:PUBLISH
X-ORIGINAL-URL:https://bycartonstudio.com
X-WR-CALDESC:Events for Carton Studio
REFRESH-INTERVAL;VALUE=DURATION:PT1H
X-Robots-Tag:noindex
X-PUBLISHED-TTL:PT1H
BEGIN:VTIMEZONE
TZID:UTC
BEGIN:STANDARD
TZOFFSETFROM:+0000
TZOFFSETTO:+0000
TZNAME:UTC
DTSTART:20290101T000000
END:STANDARD
END:VTIMEZONE
BEGIN:VEVENT
DTSTART;TZID=UTC:20290502T200000
DTEND;TZID=UTC:20290502T210000
DTSTAMP:20260422T183602
CREATED:20250329T150627Z
LAST-MODIFIED:20250329T154125Z
UID:10000739-1872446400-1872450000@bycartonstudio.com
SUMMARY:סשן תנועה עם רז רוזנבלו
DESCRIPTION:  \n 
URL:https://bycartonstudio.com/event/dance-sessions/2029-05-02/
CATEGORIES:pink background
ATTACH;FMTTYPE=image/jpeg:https://bycartonstudio.com/wp-content/uploads/2025/03/486403688_1058006943030607_1179724587045265076_n-1.jpg
END:VEVENT
BEGIN:VEVENT
DTSTART;TZID=UTC:20290509T200000
DTEND;TZID=UTC:20290509T210000
DTSTAMP:20260422T183602
CREATED:20250329T150627Z
LAST-MODIFIED:20250329T154125Z
UID:10000740-1873051200-1873054800@bycartonstudio.com
SUMMARY:סשן תנועה עם רז רוזנבלו
DESCRIPTION:  \n 
URL:https://bycartonstudio.com/event/dance-sessions/2029-05-09/
CATEGORIES:pink background
ATTACH;FMTTYPE=image/jpeg:https://bycartonstudio.com/wp-content/uploads/2025/03/486403688_1058006943030607_1179724587045265076_n-1.jpg
END:VEVENT
BEGIN:VEVENT
DTSTART;TZID=UTC:20290516T200000
DTEND;TZID=UTC:20290516T210000
DTSTAMP:20260422T183602
CREATED:20250329T150627Z
LAST-MODIFIED:20250329T154125Z
UID:10000741-1873656000-1873659600@bycartonstudio.com
SUMMARY:סשן תנועה עם רז רוזנבלו
DESCRIPTION:  \n 
URL:https://bycartonstudio.com/event/dance-sessions/2029-05-16/
CATEGORIES:pink background
ATTACH;FMTTYPE=image/jpeg:https://bycartonstudio.com/wp-content/uploads/2025/03/486403688_1058006943030607_1179724587045265076_n-1.jpg
END:VEVENT
BEGIN:VEVENT
DTSTART;TZID=UTC:20290523T200000
DTEND;TZID=UTC:20290523T210000
DTSTAMP:20260422T183602
CREATED:20250329T150627Z
LAST-MODIFIED:20250329T154125Z
UID:10000742-1874260800-1874264400@bycartonstudio.com
SUMMARY:סשן תנועה עם רז רוזנבלו
DESCRIPTION:  \n 
URL:https://bycartonstudio.com/event/dance-sessions/2029-05-23/
CATEGORIES:pink background
ATTACH;FMTTYPE=image/jpeg:https://bycartonstudio.com/wp-content/uploads/2025/03/486403688_1058006943030607_1179724587045265076_n-1.jpg
END:VEVENT
BEGIN:VEVENT
DTSTART;TZID=UTC:20290530T200000
DTEND;TZID=UTC:20290530T210000
DTSTAMP:20260422T183602
CREATED:20250329T150627Z
LAST-MODIFIED:20250329T154125Z
UID:10000743-1874865600-1874869200@bycartonstudio.com
SUMMARY:סשן תנועה עם רז רוזנבלו
DESCRIPTION:  \n 
URL:https://bycartonstudio.com/event/dance-sessions/2029-05-30/
CATEGORIES:pink background
ATTACH;FMTTYPE=image/jpeg:https://bycartonstudio.com/wp-content/uploads/2025/03/486403688_1058006943030607_1179724587045265076_n-1.jpg
END:VEVENT
END:VCALENDAR