BEGIN:VCALENDAR
VERSION:2.0
PRODID:-//Carton Studio - ECPv6.10.3//NONSGML v1.0//EN
CALSCALE:GREGORIAN
METHOD:PUBLISH
X-ORIGINAL-URL:https://bycartonstudio.com
X-WR-CALDESC:Events for Carton Studio
REFRESH-INTERVAL;VALUE=DURATION:PT1H
X-Robots-Tag:noindex
X-PUBLISHED-TTL:PT1H
BEGIN:VTIMEZONE
TZID:UTC
BEGIN:STANDARD
TZOFFSETFROM:+0000
TZOFFSETTO:+0000
TZNAME:UTC
DTSTART:20290101T000000
END:STANDARD
END:VTIMEZONE
BEGIN:VEVENT
DTSTART;TZID=UTC:20291003T200000
DTEND;TZID=UTC:20291003T210000
DTSTAMP:20260423T022850
CREATED:20250329T150627Z
LAST-MODIFIED:20250329T154125Z
UID:10000761-1885752000-1885755600@bycartonstudio.com
SUMMARY:סשן תנועה עם רז רוזנבלו
DESCRIPTION:  \n 
URL:https://bycartonstudio.com/event/dance-sessions/2029-10-03/
CATEGORIES:pink background
ATTACH;FMTTYPE=image/jpeg:https://bycartonstudio.com/wp-content/uploads/2025/03/486403688_1058006943030607_1179724587045265076_n-1.jpg
END:VEVENT
BEGIN:VEVENT
DTSTART;TZID=UTC:20291010T200000
DTEND;TZID=UTC:20291010T210000
DTSTAMP:20260423T022851
CREATED:20250329T150627Z
LAST-MODIFIED:20250329T154125Z
UID:10000762-1886356800-1886360400@bycartonstudio.com
SUMMARY:סשן תנועה עם רז רוזנבלו
DESCRIPTION:  \n 
URL:https://bycartonstudio.com/event/dance-sessions/2029-10-10/
CATEGORIES:pink background
ATTACH;FMTTYPE=image/jpeg:https://bycartonstudio.com/wp-content/uploads/2025/03/486403688_1058006943030607_1179724587045265076_n-1.jpg
END:VEVENT
BEGIN:VEVENT
DTSTART;TZID=UTC:20291017T200000
DTEND;TZID=UTC:20291017T210000
DTSTAMP:20260423T022851
CREATED:20250329T150627Z
LAST-MODIFIED:20250329T154125Z
UID:10000763-1886961600-1886965200@bycartonstudio.com
SUMMARY:סשן תנועה עם רז רוזנבלו
DESCRIPTION:  \n 
URL:https://bycartonstudio.com/event/dance-sessions/2029-10-17/
CATEGORIES:pink background
ATTACH;FMTTYPE=image/jpeg:https://bycartonstudio.com/wp-content/uploads/2025/03/486403688_1058006943030607_1179724587045265076_n-1.jpg
END:VEVENT
BEGIN:VEVENT
DTSTART;TZID=UTC:20291024T200000
DTEND;TZID=UTC:20291024T210000
DTSTAMP:20260423T022851
CREATED:20250329T150627Z
LAST-MODIFIED:20250329T154125Z
UID:10000764-1887566400-1887570000@bycartonstudio.com
SUMMARY:סשן תנועה עם רז רוזנבלו
DESCRIPTION:  \n 
URL:https://bycartonstudio.com/event/dance-sessions/2029-10-24/
CATEGORIES:pink background
ATTACH;FMTTYPE=image/jpeg:https://bycartonstudio.com/wp-content/uploads/2025/03/486403688_1058006943030607_1179724587045265076_n-1.jpg
END:VEVENT
BEGIN:VEVENT
DTSTART;TZID=UTC:20291031T200000
DTEND;TZID=UTC:20291031T210000
DTSTAMP:20260423T022851
CREATED:20250329T150627Z
LAST-MODIFIED:20250329T154125Z
UID:10000765-1888171200-1888174800@bycartonstudio.com
SUMMARY:סשן תנועה עם רז רוזנבלו
DESCRIPTION:  \n 
URL:https://bycartonstudio.com/event/dance-sessions/2029-10-31/
CATEGORIES:pink background
ATTACH;FMTTYPE=image/jpeg:https://bycartonstudio.com/wp-content/uploads/2025/03/486403688_1058006943030607_1179724587045265076_n-1.jpg
END:VEVENT
END:VCALENDAR