BEGIN:VCALENDAR
VERSION:2.0
PRODID:-//Carton Studio - ECPv6.10.3//NONSGML v1.0//EN
CALSCALE:GREGORIAN
METHOD:PUBLISH
X-WR-CALNAME:Carton Studio
X-ORIGINAL-URL:https://bycartonstudio.com
X-WR-CALDESC:Events for Carton Studio
REFRESH-INTERVAL;VALUE=DURATION:PT1H
X-Robots-Tag:noindex
X-PUBLISHED-TTL:PT1H
BEGIN:VTIMEZONE
TZID:UTC
BEGIN:STANDARD
TZOFFSETFROM:+0000
TZOFFSETTO:+0000
TZNAME:UTC
DTSTART:20300101T000000
END:STANDARD
END:VTIMEZONE
BEGIN:VEVENT
DTSTART;TZID=UTC:20300306T200000
DTEND;TZID=UTC:20300306T210000
DTSTAMP:20260423T100634
CREATED:20250329T150627Z
LAST-MODIFIED:20250329T154125Z
UID:10000783-1899057600-1899061200@bycartonstudio.com
SUMMARY:סשן תנועה עם רז רוזנבלו
DESCRIPTION:  \n 
URL:https://bycartonstudio.com/event/dance-sessions/2030-03-06/
CATEGORIES:pink background
ATTACH;FMTTYPE=image/jpeg:https://bycartonstudio.com/wp-content/uploads/2025/03/486403688_1058006943030607_1179724587045265076_n-1.jpg
END:VEVENT
BEGIN:VEVENT
DTSTART;TZID=UTC:20300313T200000
DTEND;TZID=UTC:20300313T210000
DTSTAMP:20260423T100634
CREATED:20250329T150627Z
LAST-MODIFIED:20250329T154125Z
UID:10000784-1899662400-1899666000@bycartonstudio.com
SUMMARY:סשן תנועה עם רז רוזנבלו
DESCRIPTION:  \n 
URL:https://bycartonstudio.com/event/dance-sessions/2030-03-13/
CATEGORIES:pink background
ATTACH;FMTTYPE=image/jpeg:https://bycartonstudio.com/wp-content/uploads/2025/03/486403688_1058006943030607_1179724587045265076_n-1.jpg
END:VEVENT
BEGIN:VEVENT
DTSTART;TZID=UTC:20300320T200000
DTEND;TZID=UTC:20300320T210000
DTSTAMP:20260423T100634
CREATED:20250329T150627Z
LAST-MODIFIED:20250329T154125Z
UID:10000785-1900267200-1900270800@bycartonstudio.com
SUMMARY:סשן תנועה עם רז רוזנבלו
DESCRIPTION:  \n 
URL:https://bycartonstudio.com/event/dance-sessions/2030-03-20/
CATEGORIES:pink background
ATTACH;FMTTYPE=image/jpeg:https://bycartonstudio.com/wp-content/uploads/2025/03/486403688_1058006943030607_1179724587045265076_n-1.jpg
END:VEVENT
BEGIN:VEVENT
DTSTART;TZID=UTC:20300327T200000
DTEND;TZID=UTC:20300327T210000
DTSTAMP:20260423T100634
CREATED:20250329T150627Z
LAST-MODIFIED:20250329T154125Z
UID:10000786-1900872000-1900875600@bycartonstudio.com
SUMMARY:סשן תנועה עם רז רוזנבלו
DESCRIPTION:  \n 
URL:https://bycartonstudio.com/event/dance-sessions/2030-03-27/
CATEGORIES:pink background
ATTACH;FMTTYPE=image/jpeg:https://bycartonstudio.com/wp-content/uploads/2025/03/486403688_1058006943030607_1179724587045265076_n-1.jpg
END:VEVENT
END:VCALENDAR